BEGIN:VCALENDAR
VERSION:2.0
PRODID:-//Café zum Hirschen - ECPv6.15.20//NONSGML v1.0//EN
CALSCALE:GREGORIAN
METHOD:PUBLISH
X-ORIGINAL-URL:https://cafezumhirschen.ch
X-WR-CALDESC:Veranstaltungen für Café zum Hirschen
REFRESH-INTERVAL;VALUE=DURATION:PT1H
X-Robots-Tag:noindex
X-PUBLISHED-TTL:PT1H
BEGIN:VTIMEZONE
TZID:Europe/Zurich
BEGIN:DAYLIGHT
TZOFFSETFROM:+0100
TZOFFSETTO:+0200
TZNAME:CEST
DTSTART:20240331T010000
END:DAYLIGHT
BEGIN:STANDARD
TZOFFSETFROM:+0200
TZOFFSETTO:+0100
TZNAME:CET
DTSTART:20241027T010000
END:STANDARD
BEGIN:DAYLIGHT
TZOFFSETFROM:+0100
TZOFFSETTO:+0200
TZNAME:CEST
DTSTART:20250330T010000
END:DAYLIGHT
BEGIN:STANDARD
TZOFFSETFROM:+0200
TZOFFSETTO:+0100
TZNAME:CET
DTSTART:20251026T010000
END:STANDARD
BEGIN:DAYLIGHT
TZOFFSETFROM:+0100
TZOFFSETTO:+0200
TZNAME:CEST
DTSTART:20260329T010000
END:DAYLIGHT
BEGIN:STANDARD
TZOFFSETFROM:+0200
TZOFFSETTO:+0100
TZNAME:CET
DTSTART:20261025T010000
END:STANDARD
END:VTIMEZONE
BEGIN:VEVENT
DTSTART;VALUE=DATE:20250721
DTEND;VALUE=DATE:20250804
DTSTAMP:20260421T122857
CREATED:20250528T074311Z
LAST-MODIFIED:20250528T074348Z
UID:10000111-1753056000-1754265599@cafezumhirschen.ch
SUMMARY:Sommerferien
DESCRIPTION:Vom 21. Juli bis 3. August 2025 gönnen wir uns eine kleine Auszeit. Das Café zum Hirschen bleibt in dieser Zeit geschlossen.\nAb dem 4. August sind wir erholt und voller Energie wieder für euch da – wir freuen uns auf euren Besuch!
URL:https://cafezumhirschen.ch/event/sommerferien/
LOCATION:Café zum Hirschen\, Bahnhofstrasse 33\, Huttwil\, 4950\, Schweiz
CATEGORIES:Info
ATTACH;FMTTYPE=image/jpeg:https://cafezumhirschen.ch/wp-content/uploads/2024/05/Cafe_IMG_3473-scaled.jpg
END:VEVENT
END:VCALENDAR