BEGIN:VCALENDAR
VERSION:2.0
PRODID:-//Café zum Hirschen - ECPv6.15.20//NONSGML v1.0//EN
CALSCALE:GREGORIAN
METHOD:PUBLISH
X-WR-CALNAME:Café zum Hirschen
X-ORIGINAL-URL:https://cafezumhirschen.ch
X-WR-CALDESC:Veranstaltungen für Café zum Hirschen
REFRESH-INTERVAL;VALUE=DURATION:PT1H
X-Robots-Tag:noindex
X-PUBLISHED-TTL:PT1H
BEGIN:VTIMEZONE
TZID:Europe/Zurich
BEGIN:DAYLIGHT
TZOFFSETFROM:+0100
TZOFFSETTO:+0200
TZNAME:CEST
DTSTART:20240331T010000
END:DAYLIGHT
BEGIN:STANDARD
TZOFFSETFROM:+0200
TZOFFSETTO:+0100
TZNAME:CET
DTSTART:20241027T010000
END:STANDARD
BEGIN:DAYLIGHT
TZOFFSETFROM:+0100
TZOFFSETTO:+0200
TZNAME:CEST
DTSTART:20250330T010000
END:DAYLIGHT
BEGIN:STANDARD
TZOFFSETFROM:+0200
TZOFFSETTO:+0100
TZNAME:CET
DTSTART:20251026T010000
END:STANDARD
BEGIN:DAYLIGHT
TZOFFSETFROM:+0100
TZOFFSETTO:+0200
TZNAME:CEST
DTSTART:20260329T010000
END:DAYLIGHT
BEGIN:STANDARD
TZOFFSETFROM:+0200
TZOFFSETTO:+0100
TZNAME:CET
DTSTART:20261025T010000
END:STANDARD
END:VTIMEZONE
BEGIN:VEVENT
DTSTART;TZID=Europe/Zurich:20250815T170000
DTEND;TZID=Europe/Zurich:20250815T220000
DTSTAMP:20260421T123422
CREATED:20250814T091504Z
LAST-MODIFIED:20250814T091026Z
UID:10000046-1755277200-1755295200@cafezumhirschen.ch
SUMMARY:Spieleabend
DESCRIPTION:Am 15. August laden wir dich herzlich zu einem unterhaltsamen Spieleabend ein. \nFreu dich auf einen Abend voller Spass\, Strategie und Geselligkeit. Egal ob du eine leidenschaftliche Spielerin oder einfach neugierig bist\, es wird für jeden etwas dabei sein. \nGemeinsam werden wir verschiedene Spiele erkunden und unsere Zeit mit Lachen und Spannung füllen.\nKomm vorbei und verbringe eine vergnügliche Zeit mit uns. Wir freuen uns darauf\, gemeinsam mit dir einen tollen Spieleabend zu erleben!
URL:https://cafezumhirschen.ch/event/spieleabend-august/
LOCATION:Café zum Hirschen\, Bahnhofstrasse 33\, Huttwil\, 4950\, Schweiz
CATEGORIES:Spieleabend
ATTACH;FMTTYPE=image/jpeg:https://cafezumhirschen.ch/wp-content/uploads/2023/08/thomas-buchholz-0n7_eiAQZwA-unsplash_bearb-scaled.jpg
END:VEVENT
END:VCALENDAR