BEGIN:VCALENDAR
VERSION:2.0
PRODID:-//Café zum Hirschen - ECPv6.15.20//NONSGML v1.0//EN
CALSCALE:GREGORIAN
METHOD:PUBLISH
X-WR-CALNAME:Café zum Hirschen
X-ORIGINAL-URL:https://cafezumhirschen.ch
X-WR-CALDESC:Veranstaltungen für Café zum Hirschen
REFRESH-INTERVAL;VALUE=DURATION:PT1H
X-Robots-Tag:noindex
X-PUBLISHED-TTL:PT1H
BEGIN:VTIMEZONE
TZID:Europe/Zurich
BEGIN:DAYLIGHT
TZOFFSETFROM:+0100
TZOFFSETTO:+0200
TZNAME:CEST
DTSTART:20240331T010000
END:DAYLIGHT
BEGIN:STANDARD
TZOFFSETFROM:+0200
TZOFFSETTO:+0100
TZNAME:CET
DTSTART:20241027T010000
END:STANDARD
BEGIN:DAYLIGHT
TZOFFSETFROM:+0100
TZOFFSETTO:+0200
TZNAME:CEST
DTSTART:20250330T010000
END:DAYLIGHT
BEGIN:STANDARD
TZOFFSETFROM:+0200
TZOFFSETTO:+0100
TZNAME:CET
DTSTART:20251026T010000
END:STANDARD
BEGIN:DAYLIGHT
TZOFFSETFROM:+0100
TZOFFSETTO:+0200
TZNAME:CEST
DTSTART:20260329T010000
END:DAYLIGHT
BEGIN:STANDARD
TZOFFSETFROM:+0200
TZOFFSETTO:+0100
TZNAME:CET
DTSTART:20261025T010000
END:STANDARD
END:VTIMEZONE
BEGIN:VEVENT
DTSTART;VALUE=DATE:20250902
DTEND;VALUE=DATE:20250903
DTSTAMP:20260421T124137
CREATED:20250819T095441Z
LAST-MODIFIED:20250819T095441Z
UID:10000114-1756771200-1756857599@cafezumhirschen.ch
SUMMARY:geschlossen
DESCRIPTION:Am Dienstag\, 2. September 2025\, bleibt das Café zum Hirschen ausnahmsweise geschlossen.\nAb dem 3. September sind wir wieder wie gewohnt für euch da und freuen uns auf euren Besuch!
URL:https://cafezumhirschen.ch/event/geschlossen/
LOCATION:Café zum Hirschen\, Bahnhofstrasse 33\, Huttwil\, 4950\, Schweiz
CATEGORIES:Info
ATTACH;FMTTYPE=image/jpeg:https://cafezumhirschen.ch/wp-content/uploads/2024/05/Cafe_IMG_3473-scaled.jpg
END:VEVENT
END:VCALENDAR